BEGIN:VCALENDAR
VERSION:2.0
PRODID:-//Focus Pyme y Emprendimiento//EmprenemJunts//ES
BEGIN:VEVENT
UID:Evento_25526
DTSTAMP:20251010T140942Z
DTSTART:20251125T090000Z
DTEND:20251125T094500Z
SUMMARY:El nuevo consumidor: hiperconectado, consciente y exigente
DESCRIPTION:
LOCATION:Alacant/Alicante (Alicante)
URL:https://focuspyme.emprenemjunts.es/?op=14&n=25526
GEO:38.301216;-0.536637
END:VEVENT
END:VCALENDAR
